BEGIN:VCALENDAR
VERSION:2.0
PRODID:-//Slim&#039;s Neighborhood Dive Bar and Live Music Venue | Downtown Raleigh, NC - ECPv6.15.20//NONSGML v1.0//EN
CALSCALE:GREGORIAN
METHOD:PUBLISH
X-WR-CALNAME:Slim&#039;s Neighborhood Dive Bar and Live Music Venue | Downtown Raleigh, NC
X-ORIGINAL-URL:https://old.slimsdivebar.com
X-WR-CALDESC:Events for Slim&#039;s Neighborhood Dive Bar and Live Music Venue | Downtown Raleigh, NC
REFRESH-INTERVAL;VALUE=DURATION:PT1H
X-Robots-Tag:noindex
X-PUBLISHED-TTL:PT1H
BEGIN:VTIMEZONE
TZID:UTC
BEGIN:STANDARD
TZOFFSETFROM:+0000
TZOFFSETTO:+0000
TZNAME:UTC
DTSTART:20230101T000000
END:STANDARD
END:VTIMEZONE
BEGIN:VTIMEZONE
TZID:America/New_York
BEGIN:DAYLIGHT
TZOFFSETFROM:-0500
TZOFFSETTO:-0400
TZNAME:EDT
DTSTART:20230312T070000
END:DAYLIGHT
BEGIN:STANDARD
TZOFFSETFROM:-0400
TZOFFSETTO:-0500
TZNAME:EST
DTSTART:20231105T060000
END:STANDARD
BEGIN:DAYLIGHT
TZOFFSETFROM:-0500
TZOFFSETTO:-0400
TZNAME:EDT
DTSTART:20240310T070000
END:DAYLIGHT
BEGIN:STANDARD
TZOFFSETFROM:-0400
TZOFFSETTO:-0500
TZNAME:EST
DTSTART:20241103T060000
END:STANDARD
BEGIN:DAYLIGHT
TZOFFSETFROM:-0500
TZOFFSETTO:-0400
TZNAME:EDT
DTSTART:20250309T070000
END:DAYLIGHT
BEGIN:STANDARD
TZOFFSETFROM:-0400
TZOFFSETTO:-0500
TZNAME:EST
DTSTART:20251102T060000
END:STANDARD
END:VTIMEZONE
BEGIN:VEVENT
DTSTART;TZID=UTC:20241209T200000
DTEND;TZID=UTC:20241209T213000
DTSTAMP:20260420T002814
CREATED:20241124T050324Z
LAST-MODIFIED:20241205T232024Z
UID:2765-1733774400-1733779800@old.slimsdivebar.com
SUMMARY:Rock n Trivia with Thor
DESCRIPTION:Rock n Trivia with Thor\nDecember 9 @ 8:00 pm – 9:30 pm \nEvery Monday!
URL:https://old.slimsdivebar.com/event/rock-n-trivia-with-thor-3/
LOCATION:Slim’s Dive Bar\, 227 S. Wilmnington St\, Raleigh\, NC\, 27601\, United States
ATTACH;FMTTYPE=image/jpeg:https://old.slimsdivebar.com/wp-content/uploads/2024/11/Hammered-Triuvia-JPg.jpg
ORGANIZER;CN="Slim's Dive Bar":MAILTO:amber@gmail.com
END:VEVENT
BEGIN:VEVENT
DTSTART;TZID=UTC:20241208T190000
DTEND;TZID=UTC:20241208T210000
DTSTAMP:20260420T002814
CREATED:20241124T050139Z
LAST-MODIFIED:20241205T234830Z
UID:2762-1733684400-1733691600@old.slimsdivebar.com
SUMMARY:Pine1Nine Band
DESCRIPTION:Pine1Nine Band\nDecember 8 @ 7:00 pm – 9:00 pm \n 
URL:https://old.slimsdivebar.com/event/pine1nine-band/
LOCATION:Slim’s Dive Bar\, 227 S. Wilmnington St\, Raleigh\, NC\, 27601\, United States
ATTACH;FMTTYPE=image/jpeg:https://old.slimsdivebar.com/wp-content/uploads/2024/11/Pinenine-JPG.jpg
ORGANIZER;CN="Slim's Dive Bar":MAILTO:amber@gmail.com
END:VEVENT
BEGIN:VEVENT
DTSTART;TZID=UTC:20241207T210000
DTEND;TZID=UTC:20241207T230000
DTSTAMP:20260420T002814
CREATED:20241124T050001Z
LAST-MODIFIED:20241205T235109Z
UID:2760-1733605200-1733612400@old.slimsdivebar.com
SUMMARY:Tommy Thunderfoot
DESCRIPTION:Tommy Thunderfoot\nDecember 7 @ 9:00 pm – 11:00 pm \n\n2023 winner of the Triangle Blues Society’s International Blues Challenge \n\n\nFeaturing\nEric ‘E-Train’ Manning
URL:https://old.slimsdivebar.com/event/tommy-thunderfoot/
LOCATION:Slim’s Dive Bar\, 227 S. Wilmnington St\, Raleigh\, NC\, 27601\, United States
ATTACH;FMTTYPE=image/jpeg:https://old.slimsdivebar.com/wp-content/uploads/2024/11/Tommy-Thunderfoot-JPG.jpg
ORGANIZER;CN="Slim's Dive Bar":MAILTO:amber@gmail.com
END:VEVENT
BEGIN:VEVENT
DTSTART;TZID=UTC:20241205T210000
DTEND;TZID=UTC:20241205T230000
DTSTAMP:20260420T002814
CREATED:20241124T045724Z
LAST-MODIFIED:20241204T224917Z
UID:2757-1733432400-1733439600@old.slimsdivebar.com
SUMMARY:The Softeners
DESCRIPTION:The Softeners\nDecember 5 @ 9:00 pm – 11:00 pm \nFeaturing\nLe Weekend\nThank You Partner\nNO COVER
URL:https://old.slimsdivebar.com/event/the-softeners/
LOCATION:Slim’s Dive Bar\, 227 S. Wilmnington St\, Raleigh\, NC\, 27601\, United States
ATTACH;FMTTYPE=image/jpeg:https://old.slimsdivebar.com/wp-content/uploads/2024/11/Christmas-Benefit-For-WNC-JPG.jpg
ORGANIZER;CN="Slim's Dive Bar":MAILTO:amber@gmail.com
END:VEVENT
BEGIN:VEVENT
DTSTART;TZID=UTC:20241202T200000
DTEND;TZID=UTC:20241202T213000
DTSTAMP:20260420T002814
CREATED:20241124T045517Z
LAST-MODIFIED:20241205T232108Z
UID:2755-1733169600-1733175000@old.slimsdivebar.com
SUMMARY:Rock n Trivia with Thor
DESCRIPTION:Rock n Trivia with Thor\nDecember 2 @ 8:00 pm – 9:30 pm \nNO COVER
URL:https://old.slimsdivebar.com/event/rock-n-trivia-with-thor-2/
LOCATION:Slim’s Dive Bar\, 227 S. Wilmnington St\, Raleigh\, NC\, 27601\, United States
ATTACH;FMTTYPE=image/jpeg:https://old.slimsdivebar.com/wp-content/uploads/2024/11/Hammered-Triuvia-JPg.jpg
ORGANIZER;CN="Slim's Dive Bar":MAILTO:amber@gmail.com
END:VEVENT
BEGIN:VEVENT
DTSTART;TZID=UTC:20241201T210000
DTEND;TZID=UTC:20241201T230000
DTSTAMP:20260420T002814
CREATED:20241124T031628Z
LAST-MODIFIED:20241124T031628Z
UID:2753-1733086800-1733094000@old.slimsdivebar.com
SUMMARY:Accidental Caps
DESCRIPTION:Accidental Caps\nDecember 1 @ 9:00 pm – 11:00 pm \nNO COVER
URL:https://old.slimsdivebar.com/event/accidental-caps/
LOCATION:Slim’s Dive Bar\, 227 S. Wilmnington St\, Raleigh\, NC\, 27601\, United States
ATTACH;FMTTYPE=image/png:https://old.slimsdivebar.com/wp-content/uploads/2024/08/SlimsDiveBar_MainLogo-Color_UseforLightBackground.png
ORGANIZER;CN="Slim's Dive Bar":MAILTO:amber@gmail.com
END:VEVENT
BEGIN:VEVENT
DTSTART;TZID=UTC:20241201T170000
DTEND;TZID=UTC:20241201T190000
DTSTAMP:20260420T002814
CREATED:20241124T020836Z
LAST-MODIFIED:20241124T020836Z
UID:2750-1733072400-1733079600@old.slimsdivebar.com
SUMMARY:Skull Jams
DESCRIPTION:Skull Jams\nDecember 1 @ 5:00 pm – 6:45 pm \nNO COVER
URL:https://old.slimsdivebar.com/event/skull-jams/
LOCATION:Slim’s Dive Bar\, 227 S. Wilmnington St\, Raleigh\, NC\, 27601\, United States
ATTACH;FMTTYPE=image/png:https://old.slimsdivebar.com/wp-content/uploads/2024/08/SlimsDiveBar_MainLogo-Color_UseforLightBackground.png
ORGANIZER;CN="Slim's Dive Bar":MAILTO:amber@gmail.com
END:VEVENT
BEGIN:VEVENT
DTSTART;TZID=UTC:20241130T133000
DTEND;TZID=UTC:20241130T173000
DTSTAMP:20260420T002814
CREATED:20241124T020648Z
LAST-MODIFIED:20241124T020648Z
UID:2747-1732973400-1732987800@old.slimsdivebar.com
SUMMARY:Benefit Show
DESCRIPTION:Benefit Show\nNovember 30 @ 1:30 pm – 5:30 pm \nNO COVER
URL:https://old.slimsdivebar.com/event/benefit-show/
LOCATION:Slim’s Dive Bar\, 227 S. Wilmnington St\, Raleigh\, NC\, 27601\, United States
ATTACH;FMTTYPE=image/png:https://old.slimsdivebar.com/wp-content/uploads/2024/08/SlimsDiveBar_MainLogo-Color_UseforLightBackground.png
ORGANIZER;CN="Slim's Dive Bar":MAILTO:amber@gmail.com
END:VEVENT
BEGIN:VEVENT
DTSTART;TZID=UTC:20241129T210000
DTEND;TZID=UTC:20241129T230000
DTSTAMP:20260420T002814
CREATED:20241124T010056Z
LAST-MODIFIED:20241124T010056Z
UID:2744-1732914000-1732921200@old.slimsdivebar.com
SUMMARY:SlimsGiving After Party
DESCRIPTION:SlimsGiving After Party\nNovember 29 @ 9:00 pm – 11:00 pm \nFeaturing\nJacob Boss\nNO COVER
URL:https://old.slimsdivebar.com/event/slimsgiving-after-party/
LOCATION:Slim’s Dive Bar\, 227 S. Wilmnington St\, Raleigh\, NC\, 27601\, United States
ATTACH;FMTTYPE=image/jpeg:https://old.slimsdivebar.com/wp-content/uploads/2024/11/Slimsgiving.jpg
ORGANIZER;CN="Slim's Dive Bar":MAILTO:amber@gmail.com
END:VEVENT
BEGIN:VEVENT
DTSTART;TZID=UTC:20241128T210000
DTEND;TZID=UTC:20241128T230000
DTSTAMP:20260420T002814
CREATED:20241122T235431Z
LAST-MODIFIED:20241122T235431Z
UID:2740-1732827600-1732834800@old.slimsdivebar.com
SUMMARY:SlimsGiving Bash
DESCRIPTION:SlimsGiving Bash\nNovember 28 @ 9:00 pm – 11:00 pm \nFeaturing\nJacob Boss\nNO COVER
URL:https://old.slimsdivebar.com/event/slimsgiving-bash/
LOCATION:Slim’s Dive Bar\, 227 S. Wilmnington St\, Raleigh\, NC\, 27601\, United States
ATTACH;FMTTYPE=image/png:https://old.slimsdivebar.com/wp-content/uploads/2024/08/SlimsDiveBar_MainLogo-Color_UseforLightBackground.png
ORGANIZER;CN="Slim's Dive Bar":MAILTO:amber@gmail.com
END:VEVENT
BEGIN:VEVENT
DTSTART;TZID=UTC:20241127T210000
DTEND;TZID=UTC:20241127T230000
DTSTAMP:20260420T002814
CREATED:20241122T235240Z
LAST-MODIFIED:20241122T235240Z
UID:2737-1732741200-1732748400@old.slimsdivebar.com
SUMMARY:Thanksgiving Live with Steve Hobbs
DESCRIPTION:Thanksgiving Live with Steve Hobbs\nNovember 27 @ 9:00 pm – 11:00 pm \nNO COVER
URL:https://old.slimsdivebar.com/event/thanksgiving-live-with-steve-hobbs/
LOCATION:Slim’s Dive Bar\, 227 S. Wilmnington St\, Raleigh\, NC\, 27601\, United States
ATTACH;FMTTYPE=image/png:https://old.slimsdivebar.com/wp-content/uploads/2024/08/SlimsDiveBar_MainLogo-Color_UseforLightBackground.png
ORGANIZER;CN="Slim's Dive Bar":MAILTO:amber@gmail.com
END:VEVENT
BEGIN:VEVENT
DTSTART;TZID=UTC:20241127T193000
DTEND;TZID=UTC:20241127T213000
DTSTAMP:20260420T002814
CREATED:20241122T235033Z
LAST-MODIFIED:20241122T235033Z
UID:2735-1732735800-1732743000@old.slimsdivebar.com
SUMMARY:Slims Jazz Night
DESCRIPTION:Slims Jazz Night \n\n\n\n\nNovember 27 @ 7:30 pm – 9:30 pm\n$5 Cover
URL:https://old.slimsdivebar.com/event/slims-jazz-night/
LOCATION:Slim’s Dive Bar\, 227 S. Wilmnington St\, Raleigh\, NC\, 27601\, United States
ORGANIZER;CN="Slim's Dive Bar":MAILTO:amber@gmail.com
END:VEVENT
BEGIN:VEVENT
DTSTART;TZID=UTC:20241127T073000
DTEND;TZID=UTC:20241127T213000
DTSTAMP:20260420T002814
CREATED:20241122T234617Z
LAST-MODIFIED:20241122T234833Z
UID:2731-1732692600-1732743000@old.slimsdivebar.com
SUMMARY:SlimsGiving Eve
DESCRIPTION:SlimsGiving Eve\nNovember 27 @ 7:30 am – 9:30 pm
URL:https://old.slimsdivebar.com/event/slimsgiving-eve/
LOCATION:Slim’s Dive Bar\, 227 S. Wilmnington St\, Raleigh\, NC\, 27601\, United States
ATTACH;FMTTYPE=image/jpeg:https://old.slimsdivebar.com/wp-content/uploads/2024/11/Slimsgiving.jpg
ORGANIZER;CN="Slim's Dive Bar":MAILTO:amber@gmail.com
END:VEVENT
BEGIN:VEVENT
DTSTART;TZID=UTC:20241125T200000
DTEND;TZID=UTC:20241125T213000
DTSTAMP:20260420T002814
CREATED:20241122T234441Z
LAST-MODIFIED:20241205T232155Z
UID:2729-1732564800-1732570200@old.slimsdivebar.com
SUMMARY:Rock n Trivia with Thor
DESCRIPTION:Rock n Trivia with Thor\nNovember 25 @ 8:00 pm – 9:30 pm \nEvery Monday! \nNO COVER \n 
URL:https://old.slimsdivebar.com/event/rock-n-trivia-with-thor/
LOCATION:Slim’s Dive Bar\, 227 S. Wilmnington St\, Raleigh\, NC\, 27601\, United States
ATTACH;FMTTYPE=image/jpeg:https://old.slimsdivebar.com/wp-content/uploads/2024/11/Hammered-Triuvia-JPg.jpg
ORGANIZER;CN="Slim's Dive Bar":MAILTO:amber@gmail.com
END:VEVENT
BEGIN:VEVENT
DTSTART;TZID=UTC:20241124T200000
DTEND;TZID=UTC:20241124T213000
DTSTAMP:20260420T002814
CREATED:20241124T064628Z
LAST-MODIFIED:20241124T064628Z
UID:2944-1732478400-1732483800@old.slimsdivebar.com
SUMMARY:Rock n Trivia with Thor
DESCRIPTION:Rock n Trivia with Thor\nMarch 24\, 2025 @ 8:00 pm – 9:30 pm \nEvery Monday!
URL:https://old.slimsdivebar.com/event/rock-n-trivia-with-thor-18/
LOCATION:Slim’s Dive Bar\, 227 S. Wilmnington St\, Raleigh\, NC\, 27601\, United States
ATTACH;FMTTYPE=image/png:https://old.slimsdivebar.com/wp-content/uploads/2024/08/SlimsDiveBar_MainLogo-Color_UseforLightBackground.png
ORGANIZER;CN="Slim's Dive Bar":MAILTO:amber@gmail.com
END:VEVENT
BEGIN:VEVENT
DTSTART;TZID=UTC:20241124T160000
DTEND;TZID=UTC:20241124T180000
DTSTAMP:20260420T002814
CREATED:20241122T234038Z
LAST-MODIFIED:20241122T234038Z
UID:2726-1732464000-1732471200@old.slimsdivebar.com
SUMMARY:Jesse Miller Quartet
DESCRIPTION:Jesse Miller Quartet\nNovember 24 @ 4:00 pm – 6:00 pm \nNO COVER
URL:https://old.slimsdivebar.com/event/jesse-miller-quartet/
LOCATION:Slim’s Dive Bar\, 227 S. Wilmnington St\, Raleigh\, NC\, 27601\, United States
ATTACH;FMTTYPE=image/png:https://old.slimsdivebar.com/wp-content/uploads/2024/08/SlimsDiveBar_MainLogo-Color_UseforLightBackground.png
ORGANIZER;CN="Slim's Dive Bar":MAILTO:amber@gmail.com
END:VEVENT
BEGIN:VEVENT
DTSTART;TZID=UTC:20241123T210000
DTEND;TZID=UTC:20241123T230000
DTSTAMP:20260420T002814
CREATED:20241122T233848Z
LAST-MODIFIED:20241122T234053Z
UID:2724-1732395600-1732402800@old.slimsdivebar.com
SUMMARY:Noah Rauch / Ohio Drive INDIE ROCK
DESCRIPTION:Noah Rauch\nOhio Drive INDIE ROCK\n\nNovember 23 @ 9:00 pm – 11:00 pm \nNO COVER
URL:https://old.slimsdivebar.com/event/noah-rauch-ohio-drive-indie-rock/
LOCATION:Slim’s Dive Bar\, 227 S. Wilmnington St\, Raleigh\, NC\, 27601\, United States
ATTACH;FMTTYPE=image/png:https://old.slimsdivebar.com/wp-content/uploads/2024/08/SlimsDiveBar_MainLogo-Color_UseforLightBackground.png
ORGANIZER;CN="Slim's Dive Bar":MAILTO:amber@gmail.com
END:VEVENT
BEGIN:VEVENT
DTSTART;TZID=UTC:20241122T210000
DTEND;TZID=UTC:20241122T230000
DTSTAMP:20260420T002814
CREATED:20241122T233612Z
LAST-MODIFIED:20241122T233612Z
UID:2721-1732309200-1732316400@old.slimsdivebar.com
SUMMARY:Spycraft
DESCRIPTION:Spycraft Featuring Water Thing \nNo Cover \n9pm to 11 pm
URL:https://old.slimsdivebar.com/event/spycraft/
LOCATION:Slim’s Dive Bar\, 227 S. Wilmnington St\, Raleigh\, NC\, 27601\, United States
ATTACH;FMTTYPE=image/png:https://old.slimsdivebar.com/wp-content/uploads/2024/08/SlimsDiveBar_MainLogo-Color_UseforLightBackground.png
END:VEVENT
BEGIN:VEVENT
DTSTART;TZID=UTC:20240831T203000
DTEND;TZID=UTC:20240901T203000
DTSTAMP:20260420T002814
CREATED:20240826T163053Z
LAST-MODIFIED:20240826T163620Z
UID:1309-1725136200-1725222600@old.slimsdivebar.com
SUMMARY:Comedy At Slim's
DESCRIPTION:Comedy at Slim’s … Come for the Jokes … stay for the fun! \n 
URL:https://old.slimsdivebar.com/event/1309/
LOCATION:Slim’s Dive Bar\, 227 S. Wilmnington St\, Raleigh\, NC\, 27601\, United States
ATTACH;FMTTYPE=image/webp:https://old.slimsdivebar.com/wp-content/uploads/2024/08/Open-Mic-1-Resized.webp
ORGANIZER;CN="Slim's Dive Bar":MAILTO:amber@gmail.com
END:VEVENT
BEGIN:VEVENT
DTSTART;TZID=America/New_York:20240829T200000
DTEND;TZID=America/New_York:20240830T020000
DTSTAMP:20260420T002814
CREATED:20240826T162659Z
LAST-MODIFIED:20240826T162940Z
UID:1306-1724961600-1724983200@old.slimsdivebar.com
SUMMARY:Event at Slim's
DESCRIPTION:This is how your event listings will look …..
URL:https://old.slimsdivebar.com/event/event-at-slims/
LOCATION:Slim’s Dive Bar\, 227 S. Wilmnington St\, Raleigh\, NC\, 27601\, United States
ATTACH;FMTTYPE=image/webp:https://old.slimsdivebar.com/wp-content/uploads/2024/08/IMG_4298.webp
END:VEVENT
BEGIN:VEVENT
DTSTART;TZID=UTC:20240822T080000
DTEND;TZID=UTC:20240822T170000
DTSTAMP:20260420T002814
CREATED:20240822T212518Z
LAST-MODIFIED:20240822T212518Z
UID:532-1724313600-1724346000@old.slimsdivebar.com
SUMMARY:Comedy Night At Slim's
DESCRIPTION:
URL:https://old.slimsdivebar.com/event/comedy-night-at-slims/
LOCATION:Slim’s Dive Bar\, 227 S. Wilmnington St\, Raleigh\, NC\, 27601\, United States
ORGANIZER;CN="Slim's Dive Bar":MAILTO:amber@gmail.com
END:VEVENT
END:VCALENDAR