BEGIN:VCALENDAR
VERSION:2.0
PRODID:-//Slim&#039;s Neighborhood Dive Bar and Live Music Venue | Downtown Raleigh, NC - ECPv6.15.20//NONSGML v1.0//EN
CALSCALE:GREGORIAN
METHOD:PUBLISH
X-WR-CALNAME:Slim&#039;s Neighborhood Dive Bar and Live Music Venue | Downtown Raleigh, NC
X-ORIGINAL-URL:https://old.slimsdivebar.com
X-WR-CALDESC:Events for Slim&#039;s Neighborhood Dive Bar and Live Music Venue | Downtown Raleigh, NC
REFRESH-INTERVAL;VALUE=DURATION:PT1H
X-Robots-Tag:noindex
X-PUBLISHED-TTL:PT1H
BEGIN:VTIMEZONE
TZID:UTC
BEGIN:STANDARD
TZOFFSETFROM:+0000
TZOFFSETTO:+0000
TZNAME:UTC
DTSTART:20230101T000000
END:STANDARD
END:VTIMEZONE
BEGIN:VEVENT
DTSTART;TZID=UTC:20250130T210000
DTEND;TZID=UTC:20250130T230000
DTSTAMP:20260419T185306
CREATED:20241124T060516Z
LAST-MODIFIED:20241124T060516Z
UID:2876-1738270800-1738278000@old.slimsdivebar.com
SUMMARY:LunchBox Hero
DESCRIPTION:LunchBox Hero\nJanuary 30\, 2025 @ 9:00 pm – 11:00 pm
URL:https://old.slimsdivebar.com/event/lunchbox-hero/
LOCATION:Slim’s Dive Bar\, 227 S. Wilmnington St\, Raleigh\, NC\, 27601\, United States
ATTACH;FMTTYPE=image/png:https://old.slimsdivebar.com/wp-content/uploads/2024/08/SlimsDiveBar_MainLogo-Color_UseforLightBackground.png
ORGANIZER;CN="Slim's Dive Bar":MAILTO:amber@gmail.com
END:VEVENT
BEGIN:VEVENT
DTSTART;TZID=UTC:20250130T210000
DTEND;TZID=UTC:20250130T230000
DTSTAMP:20260419T185306
CREATED:20241124T060404Z
LAST-MODIFIED:20241205T235219Z
UID:2873-1738270800-1738278000@old.slimsdivebar.com
SUMMARY:Wide Eyed Nowhere
DESCRIPTION:Wide Eyed Nowhere\nJanuary 30\, 2025 @ 9:00 pm – 11:00 pm
URL:https://old.slimsdivebar.com/event/wide-eyed-nowhere/
LOCATION:Slim’s Dive Bar\, 227 S. Wilmnington St\, Raleigh\, NC\, 27601\, United States
ATTACH;FMTTYPE=image/jpeg:https://old.slimsdivebar.com/wp-content/uploads/2024/11/wide-eyed-nowhere.jpg
ORGANIZER;CN="Slim's Dive Bar":MAILTO:amber@gmail.com
END:VEVENT
BEGIN:VEVENT
DTSTART;TZID=UTC:20250127T200000
DTEND;TZID=UTC:20250127T213000
DTSTAMP:20260419T185306
CREATED:20241124T060249Z
LAST-MODIFIED:20241205T231613Z
UID:2870-1738008000-1738013400@old.slimsdivebar.com
SUMMARY:Rock n Trivia with Thor
DESCRIPTION:Rock n Trivia with Thor\nJanuary 27\, 2025 @ 8:00 pm – 9:30 pm \nEvery Monday!
URL:https://old.slimsdivebar.com/event/rock-n-trivia-with-thor-10/
LOCATION:Slim’s Dive Bar\, 227 S. Wilmnington St\, Raleigh\, NC\, 27601\, United States
ATTACH;FMTTYPE=image/jpeg:https://old.slimsdivebar.com/wp-content/uploads/2024/11/Hammered-Triuvia-JPg.jpg
ORGANIZER;CN="Slim's Dive Bar":MAILTO:amber@gmail.com
END:VEVENT
BEGIN:VEVENT
DTSTART;TZID=UTC:20250126T160000
DTEND;TZID=UTC:20250126T180000
DTSTAMP:20260419T185306
CREATED:20241124T060118Z
LAST-MODIFIED:20241205T233801Z
UID:2867-1737907200-1737914400@old.slimsdivebar.com
SUMMARY:J Candeed and the Particle Accelerators
DESCRIPTION:J Candeed and the Particle Accelerators\nJanuary 26\, 2025 @ 4:00 pm – 6:00 pm
URL:https://old.slimsdivebar.com/event/j-candeed-and-the-particle-accelerators-4/
LOCATION:Slim’s Dive Bar\, 227 S. Wilmnington St\, Raleigh\, NC\, 27601\, United States
ATTACH;FMTTYPE=image/jpeg:https://old.slimsdivebar.com/wp-content/uploads/2024/11/J-Candeed-JPG-jan-5-12-19-26.jpg
ORGANIZER;CN="Slim's Dive Bar":MAILTO:amber@gmail.com
END:VEVENT
BEGIN:VEVENT
DTSTART;TZID=UTC:20250126T133000
DTEND;TZID=UTC:20250126T153000
DTSTAMP:20260419T185306
CREATED:20241124T060000Z
LAST-MODIFIED:20241205T234323Z
UID:2864-1737898200-1737905400@old.slimsdivebar.com
SUMMARY:Julia Golden
DESCRIPTION:Julia Golden\nJanuary 26\, 2025 @ 1:30 pm – 3:30 pm
URL:https://old.slimsdivebar.com/event/julia-golden-2/
LOCATION:Slim’s Dive Bar\, 227 S. Wilmnington St\, Raleigh\, NC\, 27601\, United States
ATTACH;FMTTYPE=image/jpeg:https://old.slimsdivebar.com/wp-content/uploads/2024/11/julia-golden-jpg.jpg
ORGANIZER;CN="Slim's Dive Bar":MAILTO:amber@gmail.com
END:VEVENT
BEGIN:VEVENT
DTSTART;TZID=UTC:20250125T210000
DTEND;TZID=UTC:20250125T230000
DTSTAMP:20260419T185306
CREATED:20241124T055848Z
LAST-MODIFIED:20241124T055848Z
UID:2861-1737838800-1737846000@old.slimsdivebar.com
SUMMARY:Chip Robinson presents Sextetto
DESCRIPTION:Chip Robinson presents Sextetto\nJanuary 25\, 2025 @ 9:00 pm – 11:00 pm
URL:https://old.slimsdivebar.com/event/chip-robinson-presents-sextetto/
LOCATION:Slim’s Dive Bar\, 227 S. Wilmnington St\, Raleigh\, NC\, 27601\, United States
ATTACH;FMTTYPE=image/png:https://old.slimsdivebar.com/wp-content/uploads/2024/08/SlimsDiveBar_MainLogo-Color_UseforLightBackground.png
ORGANIZER;CN="Slim's Dive Bar":MAILTO:amber@gmail.com
END:VEVENT
BEGIN:VEVENT
DTSTART;TZID=UTC:20250124T080000
DTEND;TZID=UTC:20250124T170000
DTSTAMP:20260419T185306
CREATED:20241124T055608Z
LAST-MODIFIED:20241205T234233Z
UID:2855-1737705600-1737738000@old.slimsdivebar.com
SUMMARY:Jake Potter
DESCRIPTION:Jake Potter\nJanuary 24\, 2025 @ 8:00 am – 5:00 pm \nFeaturing\nOl’ Joey Scrums\nJ Candeed
URL:https://old.slimsdivebar.com/event/jake-potter/
LOCATION:Slim’s Dive Bar\, 227 S. Wilmnington St\, Raleigh\, NC\, 27601\, United States
ATTACH;FMTTYPE=image/jpeg:https://old.slimsdivebar.com/wp-content/uploads/2024/11/Jake-Potter-scaled.jpg
ORGANIZER;CN="Slim's Dive Bar":MAILTO:amber@gmail.com
END:VEVENT
BEGIN:VEVENT
DTSTART;TZID=UTC:20250123T210000
DTEND;TZID=UTC:20250123T230000
DTSTAMP:20260419T185306
CREATED:20241124T055435Z
LAST-MODIFIED:20241124T055435Z
UID:2852-1737666000-1737673200@old.slimsdivebar.com
SUMMARY:Crank Stallion
DESCRIPTION:Crank Stallion\nJanuary 23\, 2025 @ 9:00 pm – 11:00 pm \nNo Cover
URL:https://old.slimsdivebar.com/event/crank-stallion/
LOCATION:Slim’s Dive Bar\, 227 S. Wilmnington St\, Raleigh\, NC\, 27601\, United States
ATTACH;FMTTYPE=image/png:https://old.slimsdivebar.com/wp-content/uploads/2024/08/SlimsDiveBar_MainLogo-Color_UseforLightBackground.png
ORGANIZER;CN="Slim's Dive Bar":MAILTO:amber@gmail.com
END:VEVENT
BEGIN:VEVENT
DTSTART;TZID=UTC:20250122T193000
DTEND;TZID=UTC:20250122T213000
DTSTAMP:20260419T185306
CREATED:20241124T055313Z
LAST-MODIFIED:20241124T055313Z
UID:2849-1737574200-1737581400@old.slimsdivebar.com
SUMMARY:Slims Jazz Night
DESCRIPTION:Slims Jazz Night\nJanuary 22\, 2025 @ 7:30 pm – 9:30 pm\n$5
URL:https://old.slimsdivebar.com/event/slims-jazz-night-6/
LOCATION:Slim’s Dive Bar\, 227 S. Wilmnington St\, Raleigh\, NC\, 27601\, United States
ATTACH;FMTTYPE=image/png:https://old.slimsdivebar.com/wp-content/uploads/2024/08/SlimsDiveBar_MainLogo-Color_UseforLightBackground.png
ORGANIZER;CN="Slim's Dive Bar":MAILTO:amber@gmail.com
END:VEVENT
BEGIN:VEVENT
DTSTART;TZID=UTC:20250120T210000
DTEND;TZID=UTC:20250120T230000
DTSTAMP:20260419T185306
CREATED:20241124T055137Z
LAST-MODIFIED:20241124T055137Z
UID:2846-1737406800-1737414000@old.slimsdivebar.com
SUMMARY:Timothy Chandler Hicks
DESCRIPTION:Timothy Chandler Hicks\nJanuary 20\, 2025 @ 9:00 pm – 11:00 pm \nNo Cover
URL:https://old.slimsdivebar.com/event/timothy-chandler-hicks/
LOCATION:Slim’s Dive Bar\, 227 S. Wilmnington St\, Raleigh\, NC\, 27601\, United States
ATTACH;FMTTYPE=image/png:https://old.slimsdivebar.com/wp-content/uploads/2024/08/SlimsDiveBar_MainLogo-Color_UseforLightBackground.png
ORGANIZER;CN="Slim's Dive Bar":MAILTO:amber@gmail.com
END:VEVENT
BEGIN:VEVENT
DTSTART;TZID=UTC:20250120T200000
DTEND;TZID=UTC:20250120T213000
DTSTAMP:20260419T185306
CREATED:20241124T055007Z
LAST-MODIFIED:20241205T231709Z
UID:2843-1737403200-1737408600@old.slimsdivebar.com
SUMMARY:Rock n Trivia with Thor
DESCRIPTION:Rock n Trivia with Thor\nJanuary 20\, 2025 @ 8:00 pm – 9:30 pm \nEvery Monday!
URL:https://old.slimsdivebar.com/event/rock-n-trivia-with-thor-9/
LOCATION:Slim’s Dive Bar\, 227 S. Wilmnington St\, Raleigh\, NC\, 27601\, United States
ATTACH;FMTTYPE=image/jpeg:https://old.slimsdivebar.com/wp-content/uploads/2024/11/Hammered-Triuvia-JPg.jpg
ORGANIZER;CN="Slim's Dive Bar":MAILTO:amber@gmail.com
END:VEVENT
BEGIN:VEVENT
DTSTART;TZID=UTC:20250119T160000
DTEND;TZID=UTC:20250119T180000
DTSTAMP:20260419T185306
CREATED:20241124T054849Z
LAST-MODIFIED:20241205T233853Z
UID:2840-1737302400-1737309600@old.slimsdivebar.com
SUMMARY:J Candeed and the Particle Accelerators
DESCRIPTION:J Candeed and the Particle Accelerators\nJanuary 19\, 2025 @ 4:00 pm – 6:00 pm \n 
URL:https://old.slimsdivebar.com/event/j-candeed-and-the-particle-accelerators-3/
LOCATION:Slim’s Dive Bar\, 227 S. Wilmnington St\, Raleigh\, NC\, 27601\, United States
ATTACH;FMTTYPE=image/jpeg:https://old.slimsdivebar.com/wp-content/uploads/2024/11/J-Candeed-JPG-jan-5-12-19-26-1.jpg
ORGANIZER;CN="Slim's Dive Bar":MAILTO:amber@gmail.com
END:VEVENT
BEGIN:VEVENT
DTSTART;TZID=UTC:20250118T160000
DTEND;TZID=UTC:20250118T210000
DTSTAMP:20260419T185306
CREATED:20241124T054730Z
LAST-MODIFIED:20241124T054730Z
UID:2837-1737216000-1737234000@old.slimsdivebar.com
SUMMARY:Jigsaw Event
DESCRIPTION:Jigsaw Event\nJanuary 18\, 2025 @ 4:00 pm – 9:00 pm
URL:https://old.slimsdivebar.com/event/jigsaw-event-2/
LOCATION:Slim’s Dive Bar\, 227 S. Wilmnington St\, Raleigh\, NC\, 27601\, United States
ATTACH;FMTTYPE=image/png:https://old.slimsdivebar.com/wp-content/uploads/2024/08/SlimsDiveBar_MainLogo-Color_UseforLightBackground.png
ORGANIZER;CN="Slim's Dive Bar":MAILTO:amber@gmail.com
END:VEVENT
BEGIN:VEVENT
DTSTART;TZID=UTC:20250117T200000
DTEND;TZID=UTC:20250117T220000
DTSTAMP:20260419T185306
CREATED:20241124T054625Z
LAST-MODIFIED:20241204T233027Z
UID:2834-1737144000-1737151200@old.slimsdivebar.com
SUMMARY:Echoes Of Heroes
DESCRIPTION:Echoes Of Heroes\nJanuary 17\, 2025 @ 8:00 pm – 10:00 pm\n\nNo Cover
URL:https://old.slimsdivebar.com/event/echoes-of-heroes/
LOCATION:Slim’s Dive Bar\, 227 S. Wilmnington St\, Raleigh\, NC\, 27601\, United States
ATTACH;FMTTYPE=image/jpeg:https://old.slimsdivebar.com/wp-content/uploads/2024/11/echoes-of-heroes-JPG.jpg
ORGANIZER;CN="Slim's Dive Bar":MAILTO:amber@gmail.com
END:VEVENT
BEGIN:VEVENT
DTSTART;TZID=UTC:20250113T200000
DTEND;TZID=UTC:20250113T213000
DTSTAMP:20260419T185306
CREATED:20241124T054458Z
LAST-MODIFIED:20241205T233203Z
UID:2831-1736798400-1736803800@old.slimsdivebar.com
SUMMARY:Rock n Trivia with Thor
DESCRIPTION:Rock n Trivia with Thor\n \n\nJanuary 13\, 2025 @ 8:00 pm – 9:30 pm\n\nEvery Monday!
URL:https://old.slimsdivebar.com/event/rock-n-trivia-with-thor-8/
LOCATION:Slim’s Dive Bar\, 227 S. Wilmnington St\, Raleigh\, NC\, 27601\, United States
ATTACH;FMTTYPE=image/jpeg:https://old.slimsdivebar.com/wp-content/uploads/2024/11/Hammered-Triuvia-JPg.jpg
ORGANIZER;CN="Slim's Dive Bar":MAILTO:amber@gmail.com
END:VEVENT
BEGIN:VEVENT
DTSTART;TZID=UTC:20250112T160000
DTEND;TZID=UTC:20250112T180000
DTSTAMP:20260419T185306
CREATED:20241124T054332Z
LAST-MODIFIED:20241205T234013Z
UID:2828-1736697600-1736704800@old.slimsdivebar.com
SUMMARY:J Candeed and the Particle Accelerators
DESCRIPTION:J Candeed and the Particle Accelerators\nJanuary 12\, 2025 @ 4:00 pm – 6:00 pm
URL:https://old.slimsdivebar.com/event/j-candeed-and-the-particle-accelerators-2/
LOCATION:Slim’s Dive Bar\, 227 S. Wilmnington St\, Raleigh\, NC\, 27601\, United States
ATTACH;FMTTYPE=image/jpeg:https://old.slimsdivebar.com/wp-content/uploads/2024/11/J-Candeed-JPG-jan-5-12-19-26-1.jpg
ORGANIZER;CN="Slim's Dive Bar":MAILTO:amber@gmail.com
END:VEVENT
BEGIN:VEVENT
DTSTART;TZID=UTC:20250111T210000
DTEND;TZID=UTC:20250111T230000
DTSTAMP:20260419T185306
CREATED:20241124T054211Z
LAST-MODIFIED:20241124T054211Z
UID:2826-1736629200-1736636400@old.slimsdivebar.com
SUMMARY:Ctrl-Alt-Del
DESCRIPTION:Ctrl-Alt-Del\nJanuary 11\, 2025 @ 9:00 pm – 11:00 pm \n 
URL:https://old.slimsdivebar.com/event/ctrl-alt-del/
LOCATION:Slim’s Dive Bar\, 227 S. Wilmnington St\, Raleigh\, NC\, 27601\, United States
ATTACH;FMTTYPE=image/png:https://old.slimsdivebar.com/wp-content/uploads/2024/08/SlimsDiveBar_MainLogo-Color_UseforLightBackground.png
ORGANIZER;CN="Slim's Dive Bar":MAILTO:amber@gmail.com
END:VEVENT
BEGIN:VEVENT
DTSTART;TZID=UTC:20250110T200000
DTEND;TZID=UTC:20250110T220000
DTSTAMP:20260419T185306
CREATED:20241124T053948Z
LAST-MODIFIED:20241124T053948Z
UID:2823-1736539200-1736546400@old.slimsdivebar.com
SUMMARY:Heavy Denim
DESCRIPTION:Heavy Denim\nJanuary 10\, 2025 @ 8:00 pm – 10:00 pm\n\n\n\n8pm: Heavy Denim 9pm: Hyperlooops 10pm: TBA \n\nNo Cover\n\nFeaturing\nHyperloops
URL:https://old.slimsdivebar.com/event/heavy-denim/
LOCATION:Slim’s Dive Bar\, 227 S. Wilmnington St\, Raleigh\, NC\, 27601\, United States
ATTACH;FMTTYPE=image/png:https://old.slimsdivebar.com/wp-content/uploads/2024/08/SlimsDiveBar_MainLogo-Color_UseforLightBackground.png
ORGANIZER;CN="Slim's Dive Bar":MAILTO:amber@gmail.com
END:VEVENT
BEGIN:VEVENT
DTSTART;TZID=UTC:20250108T193000
DTEND;TZID=UTC:20250108T213000
DTSTAMP:20260419T185306
CREATED:20241124T053732Z
LAST-MODIFIED:20241124T053732Z
UID:2820-1736364600-1736371800@old.slimsdivebar.com
SUMMARY:Slims Jazz Night
DESCRIPTION:Slims Jazz Night\n\nJanuary 8\, 2025 @ 7:30 pm – 9:30 pm\n\n\n\n\n\n$5\n\nFeaturing\nAarom Van Nynatten
URL:https://old.slimsdivebar.com/event/slims-jazz-night-5/
LOCATION:Slim’s Dive Bar\, 227 S. Wilmnington St\, Raleigh\, NC\, 27601\, United States
ATTACH;FMTTYPE=image/png:https://old.slimsdivebar.com/wp-content/uploads/2024/08/SlimsDiveBar_MainLogo-Color_UseforLightBackground.png
ORGANIZER;CN="Slim's Dive Bar":MAILTO:amber@gmail.com
END:VEVENT
BEGIN:VEVENT
DTSTART;TZID=UTC:20250108T193000
DTEND;TZID=UTC:20250108T213000
DTSTAMP:20260419T185306
CREATED:20241124T053553Z
LAST-MODIFIED:20241124T053553Z
UID:2818-1736364600-1736371800@old.slimsdivebar.com
SUMMARY:Slims Jazz Night
DESCRIPTION:Slims Jazz Night\nJanuary 8\, 2025 @ 7:30 pm – 9:30 pm \n\n\n\n\n$5\n\nFeaturing\nKevin Golden
URL:https://old.slimsdivebar.com/event/slims-jazz-night-4/
LOCATION:Slim’s Dive Bar\, 227 S. Wilmnington St\, Raleigh\, NC\, 27601\, United States
ATTACH;FMTTYPE=image/png:https://old.slimsdivebar.com/wp-content/uploads/2024/08/SlimsDiveBar_MainLogo-Color_UseforLightBackground.png
ORGANIZER;CN="Slim's Dive Bar":MAILTO:amber@gmail.com
END:VEVENT
BEGIN:VEVENT
DTSTART;TZID=UTC:20250106T200000
DTEND;TZID=UTC:20250106T213000
DTSTAMP:20260419T185306
CREATED:20241124T053330Z
LAST-MODIFIED:20241205T231757Z
UID:2815-1736193600-1736199000@old.slimsdivebar.com
SUMMARY:Rock n Trivia with Thor
DESCRIPTION:Rock n Trivia with Thor\nJanuary 6\, 2025 @ 8:00 pm – 9:30 pm \nEvery Monday!
URL:https://old.slimsdivebar.com/event/rock-n-trivia-with-thor-7/
LOCATION:Slim’s Dive Bar\, 227 S. Wilmnington St\, Raleigh\, NC\, 27601\, United States
ATTACH;FMTTYPE=image/jpeg:https://old.slimsdivebar.com/wp-content/uploads/2024/11/Hammered-Triuvia-JPg.jpg
ORGANIZER;CN="Slim's Dive Bar":MAILTO:amber@gmail.com
END:VEVENT
BEGIN:VEVENT
DTSTART;TZID=UTC:20250105T200000
DTEND;TZID=UTC:20250105T223000
DTSTAMP:20260419T185306
CREATED:20241124T053155Z
LAST-MODIFIED:20241124T053155Z
UID:2812-1736107200-1736116200@old.slimsdivebar.com
SUMMARY:Sun Rat
DESCRIPTION:Sun Rat\nJanuary 5\, 2025 @ 8:00 pm – 10:00 pm \n 
URL:https://old.slimsdivebar.com/event/sun-rat/
LOCATION:Slim’s Dive Bar\, 227 S. Wilmnington St\, Raleigh\, NC\, 27601\, United States
ATTACH;FMTTYPE=image/png:https://old.slimsdivebar.com/wp-content/uploads/2024/08/SlimsDiveBar_MainLogo-Color_UseforLightBackground.png
ORGANIZER;CN="Slim's Dive Bar":MAILTO:amber@gmail.com
END:VEVENT
BEGIN:VEVENT
DTSTART;TZID=UTC:20250105T160000
DTEND;TZID=UTC:20250105T180000
DTSTAMP:20260419T185306
CREATED:20241124T053035Z
LAST-MODIFIED:20241124T053035Z
UID:2809-1736092800-1736100000@old.slimsdivebar.com
SUMMARY:J Candeed and the Particle Accelerators
DESCRIPTION:J Candeed and the Particle Accelerators\nJanuary 5\, 2025 @ 4:00 pm – 6:00 pm
URL:https://old.slimsdivebar.com/event/j-candeed-and-the-particle-accelerators/
LOCATION:Slim’s Dive Bar\, 227 S. Wilmnington St\, Raleigh\, NC\, 27601\, United States
ATTACH;FMTTYPE=image/png:https://old.slimsdivebar.com/wp-content/uploads/2024/08/SlimsDiveBar_MainLogo-Color_UseforLightBackground.png
ORGANIZER;CN="Slim's Dive Bar":MAILTO:amber@gmail.com
END:VEVENT
BEGIN:VEVENT
DTSTART;TZID=UTC:20241231T210000
DTEND;TZID=UTC:20241231T233000
DTSTAMP:20260419T185306
CREATED:20241124T052907Z
LAST-MODIFIED:20241124T052907Z
UID:2806-1735678800-1735687800@old.slimsdivebar.com
SUMMARY:New Years Eve Slim’s Party
DESCRIPTION:New Years Eve Slim’s Party\nDecember 31 @ 9:00 pm – 11:30 pm \nFeaturing\nDallas Tetnus\nThe BQ’s\nRichard Bacchus
URL:https://old.slimsdivebar.com/event/new-years-eve-slims-party/
LOCATION:Slim’s Dive Bar\, 227 S. Wilmnington St\, Raleigh\, NC\, 27601\, United States
ATTACH;FMTTYPE=image/png:https://old.slimsdivebar.com/wp-content/uploads/2024/08/SlimsDiveBar_MainLogo-Color_UseforLightBackground.png
ORGANIZER;CN="Slim's Dive Bar":MAILTO:amber@gmail.com
END:VEVENT
BEGIN:VEVENT
DTSTART;TZID=UTC:20241230T200000
DTEND;TZID=UTC:20241230T213000
DTSTAMP:20260419T185306
CREATED:20241124T052731Z
LAST-MODIFIED:20241205T231838Z
UID:2803-1735588800-1735594200@old.slimsdivebar.com
SUMMARY:Rock n Trivia with Thor
DESCRIPTION:Rock n Trivia with Thor\nDecember 30 @ 8:00 pm – 9:30 pm \nEvery Monday!
URL:https://old.slimsdivebar.com/event/rock-n-trivia-with-thor-6/
LOCATION:Slim’s Dive Bar\, 227 S. Wilmnington St\, Raleigh\, NC\, 27601\, United States
ATTACH;FMTTYPE=image/jpeg:https://old.slimsdivebar.com/wp-content/uploads/2024/11/Hammered-Triuvia-JPg.jpg
ORGANIZER;CN="Slim's Dive Bar":MAILTO:amber@gmail.com
END:VEVENT
BEGIN:VEVENT
DTSTART;TZID=UTC:20241229T210000
DTEND;TZID=UTC:20241229T230000
DTSTAMP:20260419T185306
CREATED:20241124T052516Z
LAST-MODIFIED:20241205T233624Z
UID:2800-1735506000-1735513200@old.slimsdivebar.com
SUMMARY:Hobolectuals
DESCRIPTION:Hobolectuals\nDecember 29 @ 9:00 pm – 11:00 pm \nNo Cover\n\nFeaturing\nSpecial Guest: Effing & Blinding
URL:https://old.slimsdivebar.com/event/hobolectuals/
LOCATION:Slim’s Dive Bar\, 227 S. Wilmnington St\, Raleigh\, NC\, 27601\, United States
ATTACH;FMTTYPE=image/jpeg:https://old.slimsdivebar.com/wp-content/uploads/2024/11/Hobdetuals-JPG.jpg
ORGANIZER;CN="Slim's Dive Bar":MAILTO:amber@gmail.com
END:VEVENT
BEGIN:VEVENT
DTSTART;TZID=UTC:20241223T200000
DTEND;TZID=UTC:20241223T213000
DTSTAMP:20260419T185306
CREATED:20241124T052344Z
LAST-MODIFIED:20241205T231919Z
UID:2797-1734984000-1734989400@old.slimsdivebar.com
SUMMARY:Rock n Trivia with Thor
DESCRIPTION:Rock n Trivia with Thor\nDecember 23 @ 8:00 pm – 9:30 pm \nEvery Monday!
URL:https://old.slimsdivebar.com/event/rock-n-trivia-with-thor-5/
LOCATION:Slim’s Dive Bar\, 227 S. Wilmnington St\, Raleigh\, NC\, 27601\, United States
ATTACH;FMTTYPE=image/jpeg:https://old.slimsdivebar.com/wp-content/uploads/2024/11/Hammered-Triuvia-JPg.jpg
ORGANIZER;CN="Slim's Dive Bar":MAILTO:amber@gmail.com
END:VEVENT
BEGIN:VEVENT
DTSTART;TZID=UTC:20241220T220000
DTEND;TZID=UTC:20241220T220000
DTSTAMP:20260419T185306
CREATED:20241124T052131Z
LAST-MODIFIED:20241205T234956Z
UID:2794-1734732000-1734732000@old.slimsdivebar.com
SUMMARY:The Phoebes
DESCRIPTION:The Phoebes\nDecember 20 @ 10:00 pm – December 21 @ 12:00 am
URL:https://old.slimsdivebar.com/event/the-phoebes/
LOCATION:Slim’s Dive Bar\, 227 S. Wilmnington St\, Raleigh\, NC\, 27601\, United States
ATTACH;FMTTYPE=image/jpeg:https://old.slimsdivebar.com/wp-content/uploads/2024/11/The-Phoebes-JPG.jpg
ORGANIZER;CN="Slim's Dive Bar":MAILTO:amber@gmail.com
END:VEVENT
BEGIN:VEVENT
DTSTART;TZID=UTC:20241219T200000
DTEND;TZID=UTC:20241219T220000
DTSTAMP:20260419T185306
CREATED:20241124T051951Z
LAST-MODIFIED:20241204T232926Z
UID:2791-1734638400-1734645600@old.slimsdivebar.com
SUMMARY:Julia Golden
DESCRIPTION:Julia Golden\nDecember 19 @ 8:00 pm – 10:00 pm \n“Carolina Country Music Awards Official Nominee” Female Artist of the Year \n$5
URL:https://old.slimsdivebar.com/event/julia-golden/
LOCATION:Slim’s Dive Bar\, 227 S. Wilmnington St\, Raleigh\, NC\, 27601\, United States
ATTACH;FMTTYPE=image/jpeg:https://old.slimsdivebar.com/wp-content/uploads/2024/11/Dec-19-Julia-Golden-JPG.jpg
ORGANIZER;CN="Slim's Dive Bar":MAILTO:amber@gmail.com
END:VEVENT
BEGIN:VEVENT
DTSTART;TZID=UTC:20241218T193000
DTEND;TZID=UTC:20241218T213000
DTSTAMP:20260419T185306
CREATED:20241124T051755Z
LAST-MODIFIED:20241124T051755Z
UID:2788-1734550200-1734557400@old.slimsdivebar.com
SUMMARY:Slims Jazz Night
DESCRIPTION:Slims Jazz Night\nDecember 18 @ 7:30 pm – 9:30 pm \n\n\n\n\n\n$5\n\n\n\n\n\n 
URL:https://old.slimsdivebar.com/event/slims-jazz-night-3/
LOCATION:Slim’s Dive Bar\, 227 S. Wilmnington St\, Raleigh\, NC\, 27601\, United States
ATTACH;FMTTYPE=image/png:https://old.slimsdivebar.com/wp-content/uploads/2024/08/SlimsDiveBar_MainLogo-Color_UseforLightBackground.png
ORGANIZER;CN="Slim's Dive Bar":MAILTO:amber@gmail.com
END:VEVENT
END:VCALENDAR