BEGIN:VCALENDAR
VERSION:2.0
PRODID:-//Slim&#039;s Neighborhood Dive Bar and Live Music Venue | Downtown Raleigh, NC - ECPv6.15.20//NONSGML v1.0//EN
CALSCALE:GREGORIAN
METHOD:PUBLISH
X-ORIGINAL-URL:https://old.slimsdivebar.com
X-WR-CALDESC:Events for Slim&#039;s Neighborhood Dive Bar and Live Music Venue | Downtown Raleigh, NC
REFRESH-INTERVAL;VALUE=DURATION:PT1H
X-Robots-Tag:noindex
X-PUBLISHED-TTL:PT1H
BEGIN:VTIMEZONE
TZID:UTC
BEGIN:STANDARD
TZOFFSETFROM:+0000
TZOFFSETTO:+0000
TZNAME:UTC
DTSTART:20240101T000000
END:STANDARD
END:VTIMEZONE
BEGIN:VEVENT
DTSTART;TZID=UTC:20250704T163000
DTEND;TZID=UTC:20250705T020000
DTSTAMP:20260419T155451
CREATED:20250702T161335Z
LAST-MODIFIED:20250702T161447Z
UID:4375-1751646600-1751680800@old.slimsdivebar.com
SUMMARY:Slim's Red\, White\, Brew July 4th Party
DESCRIPTION:Slim’s Red\, White\, Brew Party \nJuly 4th 4:30pm-2:00am
URL:https://old.slimsdivebar.com/event/slims-red-white-brew-july-4th-party/
LOCATION:Slim’s Dive Bar\, 227 South Wilmington Street\, Raleigh\, NC\, 27601\, United States
ATTACH;FMTTYPE=image/png:https://old.slimsdivebar.com/wp-content/uploads/2025/07/1.png
ORGANIZER;CN="Slim's Dive Bar Downtown Raleigh":MAILTO:slimsdivebar@gmail.com
END:VEVENT
BEGIN:VEVENT
DTSTART;TZID=UTC:20250322T160000
DTEND;TZID=UTC:20250322T210000
DTSTAMP:20260419T155451
CREATED:20241124T064455Z
LAST-MODIFIED:20241124T064455Z
UID:2941-1742659200-1742677200@old.slimsdivebar.com
SUMMARY:Jigsaw Event
DESCRIPTION:Jigsaw Event\nMarch 22\, 2025 @ 4:00 pm – 9:00 pm
URL:https://old.slimsdivebar.com/event/jigsaw-event-4/
LOCATION:Slim’s Dive Bar\, 227 S. Wilmnington St\, Raleigh\, NC\, 27601\, United States
ATTACH;FMTTYPE=image/png:https://old.slimsdivebar.com/wp-content/uploads/2024/08/SlimsDiveBar_MainLogo-Color_UseforLightBackground.png
ORGANIZER;CN="Slim's Dive Bar":MAILTO:amber@gmail.com
END:VEVENT
BEGIN:VEVENT
DTSTART;TZID=UTC:20250317T200000
DTEND;TZID=UTC:20250317T213000
DTSTAMP:20260419T155451
CREATED:20241124T064337Z
LAST-MODIFIED:20241204T235903Z
UID:2938-1742241600-1742247000@old.slimsdivebar.com
SUMMARY:Rock n Trivia with Thor
DESCRIPTION:Rock n Trivia with Thor\nMarch 17\, 2025 @ 8:00 pm – 9:30 pm \nEvery Monday!
URL:https://old.slimsdivebar.com/event/rock-n-trivia-with-thor-17/
LOCATION:Slim’s Dive Bar\, 227 S. Wilmnington St\, Raleigh\, NC\, 27601\, United States
ATTACH;FMTTYPE=image/jpeg:https://old.slimsdivebar.com/wp-content/uploads/2024/11/Hammered-Triuvia-JPg.jpg
ORGANIZER;CN="Slim's Dive Bar":MAILTO:amber@gmail.com
END:VEVENT
BEGIN:VEVENT
DTSTART;TZID=UTC:20250314T210000
DTEND;TZID=UTC:20250314T230000
DTSTAMP:20260419T155451
CREATED:20241124T064219Z
LAST-MODIFIED:20241124T064219Z
UID:2935-1741986000-1741993200@old.slimsdivebar.com
SUMMARY:HorseHead
DESCRIPTION:HorseHead\nMarch 14\, 2025 @ 9:00 pm – 11:00 pm \n 
URL:https://old.slimsdivebar.com/event/horsehead/
LOCATION:Slim’s Dive Bar\, 227 S. Wilmnington St\, Raleigh\, NC\, 27601\, United States
ATTACH;FMTTYPE=image/png:https://old.slimsdivebar.com/wp-content/uploads/2024/08/SlimsDiveBar_MainLogo-Color_UseforLightBackground.png
ORGANIZER;CN="Slim's Dive Bar":MAILTO:amber@gmail.com
END:VEVENT
BEGIN:VEVENT
DTSTART;TZID=UTC:20250312T193000
DTEND;TZID=UTC:20250312T213000
DTSTAMP:20260419T155451
CREATED:20241124T064101Z
LAST-MODIFIED:20241124T064101Z
UID:2932-1741807800-1741815000@old.slimsdivebar.com
SUMMARY:Slims Jazz Night
DESCRIPTION:Slims Jazz Night\nMarch 12\, 2025 @ 7:30 pm – 9:30 pm \n\n\n\n\n$5\n\nFeaturing\nKevin Golden
URL:https://old.slimsdivebar.com/event/slims-jazz-night-8/
LOCATION:Slim’s Dive Bar\, 227 S. Wilmnington St\, Raleigh\, NC\, 27601\, United States
ATTACH;FMTTYPE=image/png:https://old.slimsdivebar.com/wp-content/uploads/2024/08/SlimsDiveBar_MainLogo-Color_UseforLightBackground.png
ORGANIZER;CN="Slim's Dive Bar":MAILTO:amber@gmail.com
END:VEVENT
BEGIN:VEVENT
DTSTART;TZID=UTC:20250311T200000
DTEND;TZID=UTC:20250311T220000
DTSTAMP:20260419T155451
CREATED:20241124T063932Z
LAST-MODIFIED:20241124T063932Z
UID:2929-1741723200-1741730400@old.slimsdivebar.com
SUMMARY:UniS
DESCRIPTION:UniS\nMarch 11\, 2025 @ 8:00 pm – 10:00 pm
URL:https://old.slimsdivebar.com/event/unis/
LOCATION:Slim’s Dive Bar\, 227 S. Wilmnington St\, Raleigh\, NC\, 27601\, United States
ATTACH;FMTTYPE=image/png:https://old.slimsdivebar.com/wp-content/uploads/2024/08/SlimsDiveBar_MainLogo-Color_UseforLightBackground.png
ORGANIZER;CN="Slim's Dive Bar":MAILTO:amber@gmail.com
END:VEVENT
BEGIN:VEVENT
DTSTART;TZID=UTC:20250310T210000
DTEND;TZID=UTC:20250310T230000
DTSTAMP:20260419T155451
CREATED:20241124T063817Z
LAST-MODIFIED:20241124T063817Z
UID:2926-1741640400-1741647600@old.slimsdivebar.com
SUMMARY:Bobcat
DESCRIPTION:Bobcat\nMarch 10\, 2025 @ 9:00 pm – 11:00 pm \nFeaturing\nJoe’s Cousin One-Man Band
URL:https://old.slimsdivebar.com/event/bobcat/
LOCATION:Slim’s Dive Bar\, 227 S. Wilmnington St\, Raleigh\, NC\, 27601\, United States
ATTACH;FMTTYPE=image/png:https://old.slimsdivebar.com/wp-content/uploads/2024/08/SlimsDiveBar_MainLogo-Color_UseforLightBackground.png
ORGANIZER;CN="Slim's Dive Bar":MAILTO:amber@gmail.com
END:VEVENT
BEGIN:VEVENT
DTSTART;TZID=UTC:20250310T200000
DTEND;TZID=UTC:20250310T213000
DTSTAMP:20260419T155451
CREATED:20241124T063644Z
LAST-MODIFIED:20241205T000110Z
UID:2923-1741636800-1741642200@old.slimsdivebar.com
SUMMARY:Rock n Trivia with Thor
DESCRIPTION:Rock n Trivia with Thor\nMarch 10\, 2025 @ 8:00 pm – 9:30 pm \nEvery Monday!
URL:https://old.slimsdivebar.com/event/rock-n-trivia-with-thor-16/
LOCATION:Slim’s Dive Bar\, 227 S. Wilmnington St\, Raleigh\, NC\, 27601\, United States
ATTACH;FMTTYPE=image/jpeg:https://old.slimsdivebar.com/wp-content/uploads/2024/11/Hammered-Triuvia-JPg.jpg
ORGANIZER;CN="Slim's Dive Bar":MAILTO:amber@gmail.com
END:VEVENT
BEGIN:VEVENT
DTSTART;TZID=UTC:20250307T210000
DTEND;TZID=UTC:20250307T230000
DTSTAMP:20260419T155451
CREATED:20241124T063525Z
LAST-MODIFIED:20241124T063525Z
UID:2920-1741381200-1741388400@old.slimsdivebar.com
SUMMARY:Mason Cole
DESCRIPTION:Mason Cole\nMarch 7\, 2025 @ 9:00 pm – 11:00 pm
URL:https://old.slimsdivebar.com/event/mason-cole/
LOCATION:Slim’s Dive Bar\, 227 S. Wilmnington St\, Raleigh\, NC\, 27601\, United States
ATTACH;FMTTYPE=image/png:https://old.slimsdivebar.com/wp-content/uploads/2024/08/SlimsDiveBar_MainLogo-Color_UseforLightBackground.png
ORGANIZER;CN="Slim's Dive Bar":MAILTO:amber@gmail.com
END:VEVENT
BEGIN:VEVENT
DTSTART;TZID=UTC:20250304T210000
DTEND;TZID=UTC:20250304T230000
DTSTAMP:20260419T155451
CREATED:20241124T063332Z
LAST-MODIFIED:20241124T063332Z
UID:2917-1741122000-1741129200@old.slimsdivebar.com
SUMMARY:Matt Woods
DESCRIPTION:Matt Woods\nMarch 4\, 2025 @ 9:00 pm – 11:00 pm
URL:https://old.slimsdivebar.com/event/matt-woods/
LOCATION:Slim’s Dive Bar\, 227 S. Wilmnington St\, Raleigh\, NC\, 27601\, United States
ATTACH;FMTTYPE=image/png:https://old.slimsdivebar.com/wp-content/uploads/2024/08/SlimsDiveBar_MainLogo-Color_UseforLightBackground.png
ORGANIZER;CN="Slim's Dive Bar":MAILTO:amber@gmail.com
END:VEVENT
BEGIN:VEVENT
DTSTART;TZID=UTC:20250304T180000
DTEND;TZID=UTC:20250304T200000
DTSTAMP:20260419T155451
CREATED:20241127T132134Z
LAST-MODIFIED:20241127T132134Z
UID:2964-1741111200-1741118400@old.slimsdivebar.com
SUMMARY:Tanjo & Crow
DESCRIPTION:Tanjo & Crow\nMay 4\, 2025 @ 6:00 pm – 8:00 pm \n$ 5
URL:https://old.slimsdivebar.com/event/tanjo-crow/
LOCATION:Slim’s Dive Bar\, 227 S. Wilmnington St\, Raleigh\, NC\, 27601\, United States
ATTACH;FMTTYPE=image/png:https://old.slimsdivebar.com/wp-content/uploads/2024/08/SlimsDiveBar_MainLogo-Color_UseforLightBackground.png
ORGANIZER;CN="Slim's Dive Bar":MAILTO:amber@gmail.com
END:VEVENT
BEGIN:VEVENT
DTSTART;TZID=UTC:20250303T200000
DTEND;TZID=UTC:20250303T213000
DTSTAMP:20260419T155451
CREATED:20241124T063212Z
LAST-MODIFIED:20241205T000153Z
UID:2914-1741032000-1741037400@old.slimsdivebar.com
SUMMARY:Rock n Trivia with Thor
DESCRIPTION:Rock n Trivia with Thor\nMarch 3\, 2025 @ 8:00 pm – 9:30 pm \nEvery Monday!
URL:https://old.slimsdivebar.com/event/rock-n-trivia-with-thor-15/
LOCATION:Slim’s Dive Bar\, 227 S. Wilmnington St\, Raleigh\, NC\, 27601\, United States
ATTACH;FMTTYPE=image/jpeg:https://old.slimsdivebar.com/wp-content/uploads/2024/11/Hammered-Triuvia-JPg.jpg
ORGANIZER;CN="Slim's Dive Bar":MAILTO:amber@gmail.com
END:VEVENT
BEGIN:VEVENT
DTSTART;TZID=UTC:20250302T140000
DTEND;TZID=UTC:20250302T200000
DTSTAMP:20260419T155451
CREATED:20241124T063036Z
LAST-MODIFIED:20241124T063036Z
UID:2911-1740924000-1740945600@old.slimsdivebar.com
SUMMARY:Drum Showcase
DESCRIPTION:Drum Showcase\nMarch 2\, 2025 @ 2:00 pm – 8:00 pm
URL:https://old.slimsdivebar.com/event/drum-showcase-2/
LOCATION:Slim’s Dive Bar\, 227 S. Wilmnington St\, Raleigh\, NC\, 27601\, United States
ATTACH;FMTTYPE=image/png:https://old.slimsdivebar.com/wp-content/uploads/2024/08/SlimsDiveBar_MainLogo-Color_UseforLightBackground.png
ORGANIZER;CN="Slim's Dive Bar":MAILTO:amber@gmail.com
END:VEVENT
BEGIN:VEVENT
DTSTART;TZID=UTC:20250224T200000
DTEND;TZID=UTC:20250224T213000
DTSTAMP:20260419T155451
CREATED:20241124T062856Z
LAST-MODIFIED:20241205T000247Z
UID:2909-1740427200-1740432600@old.slimsdivebar.com
SUMMARY:Rock n Trivia with Thor
DESCRIPTION:Rock n Trivia with Thor\nFebruary 24\, 2025 @ 8:00 pm – 9:30 pm \nEvery Monday!
URL:https://old.slimsdivebar.com/event/rock-n-trivia-with-thor-14/
LOCATION:Slim’s Dive Bar\, 227 S. Wilmnington St\, Raleigh\, NC\, 27601\, United States
ATTACH;FMTTYPE=image/jpeg:https://old.slimsdivebar.com/wp-content/uploads/2024/11/Hammered-Triuvia-JPg.jpg
ORGANIZER;CN="Slim's Dive Bar":MAILTO:amber@gmail.com
END:VEVENT
BEGIN:VEVENT
DTSTART;TZID=UTC:20250223T140000
DTEND;TZID=UTC:20250223T200000
DTSTAMP:20260419T155451
CREATED:20241124T062002Z
LAST-MODIFIED:20241124T062002Z
UID:2906-1740319200-1740340800@old.slimsdivebar.com
SUMMARY:Drum Showcase
DESCRIPTION:Drum Showcase\nFebruary 23\, 2025 @ 2:00 pm – 8:00 pm
URL:https://old.slimsdivebar.com/event/drum-showcase/
LOCATION:Slim’s Dive Bar\, 227 S. Wilmnington St\, Raleigh\, NC\, 27601\, United States
ATTACH;FMTTYPE=image/png:https://old.slimsdivebar.com/wp-content/uploads/2024/08/SlimsDiveBar_MainLogo-Color_UseforLightBackground.png
ORGANIZER;CN="Slim's Dive Bar":MAILTO:amber@gmail.com
END:VEVENT
BEGIN:VEVENT
DTSTART;TZID=UTC:20250221T210000
DTEND;TZID=UTC:20250221T230000
DTSTAMP:20260419T155451
CREATED:20241124T061846Z
LAST-MODIFIED:20241124T061846Z
UID:2903-1740171600-1740178800@old.slimsdivebar.com
SUMMARY:Gone Ghosts
DESCRIPTION:Gone Ghosts\nFebruary 21\, 2025 @ 9:00 pm – 11:00 pm \n$10
URL:https://old.slimsdivebar.com/event/gone-ghosts/
LOCATION:Slim’s Dive Bar\, 227 S. Wilmnington St\, Raleigh\, NC\, 27601\, United States
ATTACH;FMTTYPE=image/png:https://old.slimsdivebar.com/wp-content/uploads/2024/08/SlimsDiveBar_MainLogo-Color_UseforLightBackground.png
ORGANIZER;CN="Slim's Dive Bar":MAILTO:amber@gmail.com
END:VEVENT
BEGIN:VEVENT
DTSTART;TZID=UTC:20250217T200000
DTEND;TZID=UTC:20250217T213000
DTSTAMP:20260419T155451
CREATED:20241124T061711Z
LAST-MODIFIED:20241205T000021Z
UID:2900-1739822400-1739827800@old.slimsdivebar.com
SUMMARY:Rock n Trivia with Thor
DESCRIPTION:Rock n Trivia with Thor\n \n\nFebruary 17\, 2025 @ 8:00 pm – 9:30 pm\n\nEvery Monday!
URL:https://old.slimsdivebar.com/event/rock-n-trivia-with-thor-13/
LOCATION:Slim’s Dive Bar\, 227 S. Wilmnington St\, Raleigh\, NC\, 27601\, United States
ATTACH;FMTTYPE=image/jpeg:https://old.slimsdivebar.com/wp-content/uploads/2024/11/Hammered-Triuvia-JPg.jpg
ORGANIZER;CN="Slim's Dive Bar":MAILTO:amber@gmail.com
END:VEVENT
BEGIN:VEVENT
DTSTART;TZID=UTC:20250216T200000
DTEND;TZID=UTC:20250216T220000
DTSTAMP:20260419T155451
CREATED:20241124T061529Z
LAST-MODIFIED:20241124T061529Z
UID:2897-1739736000-1739743200@old.slimsdivebar.com
SUMMARY:King Pappy
DESCRIPTION:King Pappy\nFebruary 16\, 2025 @ 8:00 pm – 10:00 pm \n 
URL:https://old.slimsdivebar.com/event/king-pappy/
LOCATION:Slim’s Dive Bar\, 227 S. Wilmnington St\, Raleigh\, NC\, 27601\, United States
ATTACH;FMTTYPE=image/png:https://old.slimsdivebar.com/wp-content/uploads/2024/08/SlimsDiveBar_MainLogo-Color_UseforLightBackground.png
ORGANIZER;CN="Slim's Dive Bar":MAILTO:amber@gmail.com
END:VEVENT
BEGIN:VEVENT
DTSTART;TZID=UTC:20250215T160000
DTEND;TZID=UTC:20250215T210000
DTSTAMP:20260419T155451
CREATED:20241124T061347Z
LAST-MODIFIED:20241124T061347Z
UID:2894-1739635200-1739653200@old.slimsdivebar.com
SUMMARY:Jigsaw Event
DESCRIPTION:Jigsaw Event\nFebruary 15\, 2025 @ 4:00 pm – 9:00 pm
URL:https://old.slimsdivebar.com/event/jigsaw-event-3/
LOCATION:Slim’s Dive Bar\, 227 S. Wilmnington St\, Raleigh\, NC\, 27601\, United States
ATTACH;FMTTYPE=image/png:https://old.slimsdivebar.com/wp-content/uploads/2024/08/SlimsDiveBar_MainLogo-Color_UseforLightBackground.png
ORGANIZER;CN="Slim's Dive Bar":MAILTO:amber@gmail.com
END:VEVENT
BEGIN:VEVENT
DTSTART;TZID=UTC:20250212T193000
DTEND;TZID=UTC:20250212T213000
DTSTAMP:20260419T155451
CREATED:20241124T061229Z
LAST-MODIFIED:20241124T061229Z
UID:2891-1739388600-1739395800@old.slimsdivebar.com
SUMMARY:Slims Jazz Night
DESCRIPTION:Slims Jazz Night\nFebruary 12\, 2025 @ 7:30 pm – 9:30 pm \n$5\n\nFeaturing\nKevin Golden
URL:https://old.slimsdivebar.com/event/slims-jazz-night-7/
LOCATION:Slim’s Dive Bar\, 227 S. Wilmnington St\, Raleigh\, NC\, 27601\, United States
ATTACH;FMTTYPE=image/png:https://old.slimsdivebar.com/wp-content/uploads/2024/08/SlimsDiveBar_MainLogo-Color_UseforLightBackground.png
ORGANIZER;CN="Slim's Dive Bar":MAILTO:amber@gmail.com
END:VEVENT
BEGIN:VEVENT
DTSTART;TZID=UTC:20250210T200000
DTEND;TZID=UTC:20250210T213000
DTSTAMP:20260419T155451
CREATED:20241124T061108Z
LAST-MODIFIED:20241205T000414Z
UID:2888-1739217600-1739223000@old.slimsdivebar.com
SUMMARY:Rock n Trivia with Thor
DESCRIPTION:Rock n Trivia with Thor\nFebruary 10\, 2025 @ 8:00 pm – 9:30 pm \nEvery Monday!
URL:https://old.slimsdivebar.com/event/rock-n-trivia-with-thor-12/
LOCATION:Slim’s Dive Bar\, 227 S. Wilmnington St\, Raleigh\, NC\, 27601\, United States
ATTACH;FMTTYPE=image/jpeg:https://old.slimsdivebar.com/wp-content/uploads/2024/11/Hammered-Triuvia-JPg.jpg
ORGANIZER;CN="Slim's Dive Bar":MAILTO:amber@gmail.com
END:VEVENT
BEGIN:VEVENT
DTSTART;TZID=UTC:20250209T170000
DTEND;TZID=UTC:20250209T190000
DTSTAMP:20260419T155451
CREATED:20241124T060940Z
LAST-MODIFIED:20241124T060940Z
UID:2885-1739120400-1739127600@old.slimsdivebar.com
SUMMARY:Friendship Commanders
DESCRIPTION:Friendship Commanders\nFebruary 9\, 2025 @ 5:00 pm – 7:00 pm \n\n\n\n\n\nFeaturing\nKult Ikon
URL:https://old.slimsdivebar.com/event/friendship-commanders/
LOCATION:Slim’s Dive Bar\, 227 S. Wilmnington St\, Raleigh\, NC\, 27601\, United States
ATTACH;FMTTYPE=image/png:https://old.slimsdivebar.com/wp-content/uploads/2024/08/SlimsDiveBar_MainLogo-Color_UseforLightBackground.png
ORGANIZER;CN="Slim's Dive Bar":MAILTO:amber@gmail.com
END:VEVENT
BEGIN:VEVENT
DTSTART;TZID=UTC:20250207T200000
DTEND;TZID=UTC:20250207T230000
DTSTAMP:20260419T155451
CREATED:20241124T060812Z
LAST-MODIFIED:20241124T060812Z
UID:2882-1738958400-1738969200@old.slimsdivebar.com
SUMMARY:Slice & the Picks
DESCRIPTION:Slice & the Picks\nFebruary 7\, 2025 @ 8:00 pm – 11:00 pm\n\n\n\nAddie & The Subtractions (Raleigh) Rising Star Addie Goulding with bassist Tim Carroll and guitarist Scott Percy and Andy Goulding on drums Four eyed whale & George\, B (Sacramento) funk\, […] \n\n\nFeaturing\nAddie & The Subtractions\nFour Eyed Whale & George\nCesar Jesus
URL:https://old.slimsdivebar.com/event/slice-the-picks/
LOCATION:Slim’s Dive Bar\, 227 S. Wilmnington St\, Raleigh\, NC\, 27601\, United States
ATTACH;FMTTYPE=image/png:https://old.slimsdivebar.com/wp-content/uploads/2024/08/SlimsDiveBar_MainLogo-Color_UseforLightBackground.png
ORGANIZER;CN="Slim's Dive Bar":MAILTO:amber@gmail.com
END:VEVENT
BEGIN:VEVENT
DTSTART;TZID=UTC:20250203T200000
DTEND;TZID=UTC:20250203T213000
DTSTAMP:20260419T155451
CREATED:20241124T060641Z
LAST-MODIFIED:20241205T000504Z
UID:2879-1738612800-1738618200@old.slimsdivebar.com
SUMMARY:Rock n Trivia with Thor
DESCRIPTION:Rock n Trivia with Thor\nFebruary 3\, 2025 @ 8:00 pm – 9:30 pm \nEvery Monday!
URL:https://old.slimsdivebar.com/event/rock-n-trivia-with-thor-11/
LOCATION:Slim’s Dive Bar\, 227 S. Wilmnington St\, Raleigh\, NC\, 27601\, United States
ATTACH;FMTTYPE=image/jpeg:https://old.slimsdivebar.com/wp-content/uploads/2024/11/Hammered-Triuvia-JPg.jpg
ORGANIZER;CN="Slim's Dive Bar":MAILTO:amber@gmail.com
END:VEVENT
BEGIN:VEVENT
DTSTART;TZID=UTC:20250130T210000
DTEND;TZID=UTC:20250130T230000
DTSTAMP:20260419T155451
CREATED:20241124T060516Z
LAST-MODIFIED:20241124T060516Z
UID:2876-1738270800-1738278000@old.slimsdivebar.com
SUMMARY:LunchBox Hero
DESCRIPTION:LunchBox Hero\nJanuary 30\, 2025 @ 9:00 pm – 11:00 pm
URL:https://old.slimsdivebar.com/event/lunchbox-hero/
LOCATION:Slim’s Dive Bar\, 227 S. Wilmnington St\, Raleigh\, NC\, 27601\, United States
ATTACH;FMTTYPE=image/png:https://old.slimsdivebar.com/wp-content/uploads/2024/08/SlimsDiveBar_MainLogo-Color_UseforLightBackground.png
ORGANIZER;CN="Slim's Dive Bar":MAILTO:amber@gmail.com
END:VEVENT
BEGIN:VEVENT
DTSTART;TZID=UTC:20250130T210000
DTEND;TZID=UTC:20250130T230000
DTSTAMP:20260419T155451
CREATED:20241124T060404Z
LAST-MODIFIED:20241205T235219Z
UID:2873-1738270800-1738278000@old.slimsdivebar.com
SUMMARY:Wide Eyed Nowhere
DESCRIPTION:Wide Eyed Nowhere\nJanuary 30\, 2025 @ 9:00 pm – 11:00 pm
URL:https://old.slimsdivebar.com/event/wide-eyed-nowhere/
LOCATION:Slim’s Dive Bar\, 227 S. Wilmnington St\, Raleigh\, NC\, 27601\, United States
ATTACH;FMTTYPE=image/jpeg:https://old.slimsdivebar.com/wp-content/uploads/2024/11/wide-eyed-nowhere.jpg
ORGANIZER;CN="Slim's Dive Bar":MAILTO:amber@gmail.com
END:VEVENT
BEGIN:VEVENT
DTSTART;TZID=UTC:20250127T200000
DTEND;TZID=UTC:20250127T213000
DTSTAMP:20260419T155451
CREATED:20241124T060249Z
LAST-MODIFIED:20241205T231613Z
UID:2870-1738008000-1738013400@old.slimsdivebar.com
SUMMARY:Rock n Trivia with Thor
DESCRIPTION:Rock n Trivia with Thor\nJanuary 27\, 2025 @ 8:00 pm – 9:30 pm \nEvery Monday!
URL:https://old.slimsdivebar.com/event/rock-n-trivia-with-thor-10/
LOCATION:Slim’s Dive Bar\, 227 S. Wilmnington St\, Raleigh\, NC\, 27601\, United States
ATTACH;FMTTYPE=image/jpeg:https://old.slimsdivebar.com/wp-content/uploads/2024/11/Hammered-Triuvia-JPg.jpg
ORGANIZER;CN="Slim's Dive Bar":MAILTO:amber@gmail.com
END:VEVENT
BEGIN:VEVENT
DTSTART;TZID=UTC:20250126T160000
DTEND;TZID=UTC:20250126T180000
DTSTAMP:20260419T155451
CREATED:20241124T060118Z
LAST-MODIFIED:20241205T233801Z
UID:2867-1737907200-1737914400@old.slimsdivebar.com
SUMMARY:J Candeed and the Particle Accelerators
DESCRIPTION:J Candeed and the Particle Accelerators\nJanuary 26\, 2025 @ 4:00 pm – 6:00 pm
URL:https://old.slimsdivebar.com/event/j-candeed-and-the-particle-accelerators-4/
LOCATION:Slim’s Dive Bar\, 227 S. Wilmnington St\, Raleigh\, NC\, 27601\, United States
ATTACH;FMTTYPE=image/jpeg:https://old.slimsdivebar.com/wp-content/uploads/2024/11/J-Candeed-JPG-jan-5-12-19-26.jpg
ORGANIZER;CN="Slim's Dive Bar":MAILTO:amber@gmail.com
END:VEVENT
BEGIN:VEVENT
DTSTART;TZID=UTC:20250126T133000
DTEND;TZID=UTC:20250126T153000
DTSTAMP:20260419T155451
CREATED:20241124T060000Z
LAST-MODIFIED:20241205T234323Z
UID:2864-1737898200-1737905400@old.slimsdivebar.com
SUMMARY:Julia Golden
DESCRIPTION:Julia Golden\nJanuary 26\, 2025 @ 1:30 pm – 3:30 pm
URL:https://old.slimsdivebar.com/event/julia-golden-2/
LOCATION:Slim’s Dive Bar\, 227 S. Wilmnington St\, Raleigh\, NC\, 27601\, United States
ATTACH;FMTTYPE=image/jpeg:https://old.slimsdivebar.com/wp-content/uploads/2024/11/julia-golden-jpg.jpg
ORGANIZER;CN="Slim's Dive Bar":MAILTO:amber@gmail.com
END:VEVENT
BEGIN:VEVENT
DTSTART;TZID=UTC:20250125T210000
DTEND;TZID=UTC:20250125T230000
DTSTAMP:20260419T155451
CREATED:20241124T055848Z
LAST-MODIFIED:20241124T055848Z
UID:2861-1737838800-1737846000@old.slimsdivebar.com
SUMMARY:Chip Robinson presents Sextetto
DESCRIPTION:Chip Robinson presents Sextetto\nJanuary 25\, 2025 @ 9:00 pm – 11:00 pm
URL:https://old.slimsdivebar.com/event/chip-robinson-presents-sextetto/
LOCATION:Slim’s Dive Bar\, 227 S. Wilmnington St\, Raleigh\, NC\, 27601\, United States
ATTACH;FMTTYPE=image/png:https://old.slimsdivebar.com/wp-content/uploads/2024/08/SlimsDiveBar_MainLogo-Color_UseforLightBackground.png
ORGANIZER;CN="Slim's Dive Bar":MAILTO:amber@gmail.com
END:VEVENT
END:VCALENDAR